BEGIN:VCALENDAR
VERSION:2.0
PRODID:-//Bob Brinker Memorial Veterans Foundation - ECPv6.15.20//NONSGML v1.0//EN
CALSCALE:GREGORIAN
METHOD:PUBLISH
X-WR-CALNAME:Bob Brinker Memorial Veterans Foundation
X-ORIGINAL-URL:https://bobbrinkermemorial.org
X-WR-CALDESC:Events for Bob Brinker Memorial Veterans Foundation
REFRESH-INTERVAL;VALUE=DURATION:PT1H
X-Robots-Tag:noindex
X-PUBLISHED-TTL:PT1H
BEGIN:VTIMEZONE
TZID:America/Detroit
BEGIN:DAYLIGHT
TZOFFSETFROM:-0500
TZOFFSETTO:-0400
TZNAME:EDT
DTSTART:20250309T070000
END:DAYLIGHT
BEGIN:STANDARD
TZOFFSETFROM:-0400
TZOFFSETTO:-0500
TZNAME:EST
DTSTART:20251102T060000
END:STANDARD
BEGIN:DAYLIGHT
TZOFFSETFROM:-0500
TZOFFSETTO:-0400
TZNAME:EDT
DTSTART:20260308T070000
END:DAYLIGHT
BEGIN:STANDARD
TZOFFSETFROM:-0400
TZOFFSETTO:-0500
TZNAME:EST
DTSTART:20261101T060000
END:STANDARD
BEGIN:DAYLIGHT
TZOFFSETFROM:-0500
TZOFFSETTO:-0400
TZNAME:EDT
DTSTART:20270314T070000
END:DAYLIGHT
BEGIN:STANDARD
TZOFFSETFROM:-0400
TZOFFSETTO:-0500
TZNAME:EST
DTSTART:20271107T060000
END:STANDARD
END:VTIMEZONE
BEGIN:VEVENT
DTSTART;TZID=America/Detroit:20260405T100000
DTEND;TZID=America/Detroit:20260405T140000
DTSTAMP:20260423T203009
CREATED:20260327T210059Z
LAST-MODIFIED:20260327T210059Z
UID:6636-1775383200-1775397600@bobbrinkermemorial.org
SUMMARY:EASTER BRUNCH BUFFET
DESCRIPTION:Join us on Sunday April 5th\, 2026 from 10am-2pm for an Easter Brunch Buffet Fundraiser at VFW Post 6756\, located at 25500 Sherwood Avenue in Centerline\, in the Clubroom. All proceeds go toward Operation Easter Basket postage costs.
URL:https://bobbrinkermemorial.org/event/easter-brunch-buffet/
LOCATION:VFW 6756\, 25500 Sherwood\, Warren\, MI\, 48091\, United States
CATEGORIES:EVENT,FUNDRAISERS
ATTACH;FMTTYPE=image/png:https://bobbrinkermemorial.org/wp-content/uploads/2026/03/EasterBrunch-scaled.png
ORGANIZER;CN="BBMVF":MAILTO:bobbrinkermemorial@gmail.com
END:VEVENT
END:VCALENDAR